BEGIN:VCALENDAR
VERSION:2.0
PRODID:-//Tim&amp;Shænko Linjeforening - ECPv6.15.20//NONSGML v1.0//EN
CALSCALE:GREGORIAN
METHOD:PUBLISH
X-ORIGINAL-URL:https://bygging.no
X-WR-CALDESC:Arrangement for Tim&amp;Shænko Linjeforening
REFRESH-INTERVAL;VALUE=DURATION:PT1H
X-Robots-Tag:noindex
X-PUBLISHED-TTL:PT1H
BEGIN:VTIMEZONE
TZID:Europe/Paris
BEGIN:DAYLIGHT
TZOFFSETFROM:+0100
TZOFFSETTO:+0200
TZNAME:CEST
DTSTART:20240331T010000
END:DAYLIGHT
BEGIN:STANDARD
TZOFFSETFROM:+0200
TZOFFSETTO:+0100
TZNAME:CET
DTSTART:20241027T010000
END:STANDARD
BEGIN:DAYLIGHT
TZOFFSETFROM:+0100
TZOFFSETTO:+0200
TZNAME:CEST
DTSTART:20250330T010000
END:DAYLIGHT
BEGIN:STANDARD
TZOFFSETFROM:+0200
TZOFFSETTO:+0100
TZNAME:CET
DTSTART:20251026T010000
END:STANDARD
BEGIN:DAYLIGHT
TZOFFSETFROM:+0100
TZOFFSETTO:+0200
TZNAME:CEST
DTSTART:20260329T010000
END:DAYLIGHT
BEGIN:STANDARD
TZOFFSETFROM:+0200
TZOFFSETTO:+0100
TZNAME:CET
DTSTART:20261025T010000
END:STANDARD
END:VTIMEZONE
BEGIN:VEVENT
DTSTART;TZID=Europe/Paris:20250405T210000
DTEND;TZID=Europe/Paris:20250406T020000
DTSTAMP:20260423T112703
CREATED:20250326T103135Z
LAST-MODIFIED:20250402T120543Z
UID:4642-1743886800-1743904800@bygging.no
SUMMARY:Silent Disco!
DESCRIPTION:Lørdag 5. april blir det Silent Disco på havet! \nTim&Shænko har totalt 30 plasser\, så det er førstemann til mølla!! Over 10 andre linjeforeninger er påmeldt\, så det blir er stort arrangement! \nDet vil også bli 70-talls tema\, så finn frem din fineste outfit! \nVi gleder oss til å se så mange som mulig der🎉🪩 \n 
URL:https://bygging.no/events/silent-disco/
LOCATION:Havet\, Strandveien 104\, Trondheim\, 7067
END:VEVENT
END:VCALENDAR